BEGIN:VCALENDAR
VERSION:2.0
PRODID:-//Kalkhorster Sportverein e. V. - ECPv6.15.20//NONSGML v1.0//EN
CALSCALE:GREGORIAN
METHOD:PUBLISH
X-ORIGINAL-URL:https://kalkhorster-sv.de
X-WR-CALDESC:Veranstaltungen für Kalkhorster Sportverein e. V.
REFRESH-INTERVAL;VALUE=DURATION:PT1H
X-Robots-Tag:noindex
X-PUBLISHED-TTL:PT1H
BEGIN:VTIMEZONE
TZID:Europe/Berlin
BEGIN:DAYLIGHT
TZOFFSETFROM:+0100
TZOFFSETTO:+0200
TZNAME:CEST
DTSTART:20230326T010000
END:DAYLIGHT
BEGIN:STANDARD
TZOFFSETFROM:+0200
TZOFFSETTO:+0100
TZNAME:CET
DTSTART:20231029T010000
END:STANDARD
BEGIN:DAYLIGHT
TZOFFSETFROM:+0100
TZOFFSETTO:+0200
TZNAME:CEST
DTSTART:20240331T010000
END:DAYLIGHT
BEGIN:STANDARD
TZOFFSETFROM:+0200
TZOFFSETTO:+0100
TZNAME:CET
DTSTART:20241027T010000
END:STANDARD
BEGIN:DAYLIGHT
TZOFFSETFROM:+0100
TZOFFSETTO:+0200
TZNAME:CEST
DTSTART:20250330T010000
END:DAYLIGHT
BEGIN:STANDARD
TZOFFSETFROM:+0200
TZOFFSETTO:+0100
TZNAME:CET
DTSTART:20251026T010000
END:STANDARD
END:VTIMEZONE
BEGIN:VEVENT
DTSTART;TZID=Europe/Berlin:20241012T090000
DTEND;TZID=Europe/Berlin:20241012T120000
DTSTAMP:20260419T171934
CREATED:20240903T073351Z
LAST-MODIFIED:20240905T154116Z
UID:2149-1728723600-1728734400@kalkhorster-sv.de
SUMMARY:Arbeitseinsatz – alle packen an!
DESCRIPTION:Am Sonnabend\, dem 12.10.2024\, treffen wir uns zum Arbeitseinsatz. \n8:30 Uhr geht es mit einer Tasse Kaffee los\, um 9:00 Uhr ist Arbeitsbeginn. \nAuf dem Programm stehen folgende Aufgaben: \n\nEinzäunung Container\nFußboden Container\nRegalsysteme im Keller\, neues Zelt aufbauen und beschriften\nKSV-Heim reinigen\nAußenanlage pflegen\nSportplatzpflege (Werbebanden reinigen\, Müll sammeln)\nAusmisten Schiedsrichterraum\n\nInformationsangebot zur Vereins-App\nFragen rund um die Vereins-App easyVerein sowie das Lastschriftverfahren können an diesem Tag besprochen werden. Ansprechpartner ist hier Sebastian Stoll. \nKommt zahlreich\, dann schaffen wir alles umso schneller. \nFür das leibliche Wohl wird z. B. mit Erfrischungsgetränken und Würstchen gesorgt. Wir freuen uns auf das Beisammensein und den Austausch auch unter den Sparten. \n 
URL:https://kalkhorster-sv.de/veranstaltung/arbeitseinsatz-alle-packen-an-4/
LOCATION:Vereinsheim Kalkhorster SV\, Friedensstraße 61\, Kalkhorst\, Mecklenburg-Vorpommern\, 23942\, Deutschland
CATEGORIES:Arbeitseinsatz
ATTACH;FMTTYPE=image/jpeg:https://kalkhorster-sv.de/wp/wp-content/uploads/2023/09/arbeitseinsatz.jpg
END:VEVENT
END:VCALENDAR