BEGIN:VCALENDAR
VERSION:2.0
PRODID:-//Kalkhorster Sportverein e. V. - ECPv6.15.20//NONSGML v1.0//EN
CALSCALE:GREGORIAN
METHOD:PUBLISH
X-WR-CALNAME:Kalkhorster Sportverein e. V.
X-ORIGINAL-URL:https://kalkhorster-sv.de
X-WR-CALDESC:Veranstaltungen für Kalkhorster Sportverein e. V.
REFRESH-INTERVAL;VALUE=DURATION:PT1H
X-Robots-Tag:noindex
X-PUBLISHED-TTL:PT1H
BEGIN:VTIMEZONE
TZID:Europe/Berlin
BEGIN:DAYLIGHT
TZOFFSETFROM:+0100
TZOFFSETTO:+0200
TZNAME:CEST
DTSTART:20230326T010000
END:DAYLIGHT
BEGIN:STANDARD
TZOFFSETFROM:+0200
TZOFFSETTO:+0100
TZNAME:CET
DTSTART:20231029T010000
END:STANDARD
BEGIN:DAYLIGHT
TZOFFSETFROM:+0100
TZOFFSETTO:+0200
TZNAME:CEST
DTSTART:20240331T010000
END:DAYLIGHT
BEGIN:STANDARD
TZOFFSETFROM:+0200
TZOFFSETTO:+0100
TZNAME:CET
DTSTART:20241027T010000
END:STANDARD
BEGIN:DAYLIGHT
TZOFFSETFROM:+0100
TZOFFSETTO:+0200
TZNAME:CEST
DTSTART:20250330T010000
END:DAYLIGHT
BEGIN:STANDARD
TZOFFSETFROM:+0200
TZOFFSETTO:+0100
TZNAME:CET
DTSTART:20251026T010000
END:STANDARD
END:VTIMEZONE
BEGIN:VEVENT
DTSTART;TZID=Europe/Berlin:20240713T100000
DTEND;TZID=Europe/Berlin:20240714T140000
DTSTAMP:20260419T215645
CREATED:20240310T104740Z
LAST-MODIFIED:20240528T133612Z
UID:1923-1720864800-1720965600@kalkhorster-sv.de
SUMMARY:Dorf- und Sportfest
DESCRIPTION:Auch dieses Jahr veranstaltet die Gemeinde Kalkhorst zusammen mit den örtlichen Vereinen das Dorf- und Sportfest. \nNeu im Jahr 2024 ist die Dauer des Dorffestes. Es wird Veranstaltungen von Samstagmorgen\, den 13.07. bis Sonntagvormittag\, den 14.07. geben. \nProgramm und weitere Informationen auf kalkhorster.de.
URL:https://kalkhorster-sv.de/veranstaltung/dorf-und-sportfest-2/
LOCATION:Sportplatz Kalkhorst\, Friedensstraße 61\, Kalkhorst\, Mecklenburg-Vorpommern\, 23942\, Deutschland
ATTACH;FMTTYPE=image/jpeg:https://kalkhorster-sv.de/wp/wp-content/uploads/2024/03/dorffest-plakat-web.jpeg
END:VEVENT
END:VCALENDAR