BEGIN:VCALENDAR
VERSION:2.0
PRODID:-//Kalkhorster Sportverein e. V. - ECPv6.15.20//NONSGML v1.0//EN
CALSCALE:GREGORIAN
METHOD:PUBLISH
X-ORIGINAL-URL:https://kalkhorster-sv.de
X-WR-CALDESC:Veranstaltungen für Kalkhorster Sportverein e. V.
REFRESH-INTERVAL;VALUE=DURATION:PT1H
X-Robots-Tag:noindex
X-PUBLISHED-TTL:PT1H
BEGIN:VTIMEZONE
TZID:Europe/Berlin
BEGIN:DAYLIGHT
TZOFFSETFROM:+0100
TZOFFSETTO:+0200
TZNAME:CEST
DTSTART:20230326T010000
END:DAYLIGHT
BEGIN:STANDARD
TZOFFSETFROM:+0200
TZOFFSETTO:+0100
TZNAME:CET
DTSTART:20231029T010000
END:STANDARD
BEGIN:DAYLIGHT
TZOFFSETFROM:+0100
TZOFFSETTO:+0200
TZNAME:CEST
DTSTART:20240331T010000
END:DAYLIGHT
BEGIN:STANDARD
TZOFFSETFROM:+0200
TZOFFSETTO:+0100
TZNAME:CET
DTSTART:20241027T010000
END:STANDARD
BEGIN:DAYLIGHT
TZOFFSETFROM:+0100
TZOFFSETTO:+0200
TZNAME:CEST
DTSTART:20250330T010000
END:DAYLIGHT
BEGIN:STANDARD
TZOFFSETFROM:+0200
TZOFFSETTO:+0100
TZNAME:CET
DTSTART:20251026T010000
END:STANDARD
END:VTIMEZONE
BEGIN:VEVENT
DTSTART;TZID=Europe/Berlin:20240105T180000
DTEND;TZID=Europe/Berlin:20240105T235900
DTSTAMP:20260420T073546
CREATED:20231023T145930Z
LAST-MODIFIED:20240105T153806Z
UID:1735-1704477600-1704499140@kalkhorster-sv.de
SUMMARY:Neujahrsturnier
DESCRIPTION:Der Kalkhorster Sportverein lädt auch 2024 ein zum vereinsinternen Volleyball-Neujahrsturnier am Freitag\, dem 05.01.2024. \nEingeladen sind alle Sparten des Kalkhorster SV sowie Teams der Gemeinde. Gespielt wird in der Halle am Sportplatz. Das Turnier beginnt voraussichtlich um 18 Uhr. Für das leibliche Wohl ist gesorgt. \nWir bitten Teams (min. 6 Spieler) um die Anmeldung entweder über verein@kalkhorster-sv.de oder direkt bei Peter Werner\, dem Abteilungsleiter Volleyball. \nFolgende Teams haben sich angemeldet\n\nKSV-Team Volleyball Mittwoch (Peter)\nKSV-Team Volleyball Montag (Dennis)\nKalkhorster Dartfighter\nFußball Oldies\nTischtennis Jugend\nFFW Kalkhorst\nFußball Herren
URL:https://kalkhorster-sv.de/veranstaltung/neujahrsturnier-2024/
LOCATION:Sportplatz Kalkhorst\, Friedensstraße 61\, Kalkhorst\, Mecklenburg-Vorpommern\, 23942\, Deutschland
CATEGORIES:Neujahrsturnier
ATTACH;FMTTYPE=image/jpeg:https://kalkhorster-sv.de/wp/wp-content/uploads/2023/01/gruppenfoto-neujahrsturnier-2023-1.jpg
END:VEVENT
BEGIN:VEVENT
DTSTART;TZID=Europe/Berlin:20240120T180000
DTEND;TZID=Europe/Berlin:20240120T180000
DTSTAMP:20260420T073546
CREATED:20240112T114637Z
LAST-MODIFIED:20240112T114656Z
UID:1882-1705773600-1705773600@kalkhorster-sv.de
SUMMARY:Skatturnier
DESCRIPTION:20. Januar 2024\, 18.00 Uhr im Sportheim Kalkhorst\nStartgebühr: 10\,00 Euro\nFür Essen und Trinken ist gesorgt.\nAnmeldungen gern an Wilfried und Luise Semrau oder über unser Kontaktformular.
URL:https://kalkhorster-sv.de/veranstaltung/skatturnier/
LOCATION:Vereinsheim Kalkhorster SV\, Friedensstraße 61\, Kalkhorst\, Mecklenburg-Vorpommern\, 23942\, Deutschland
ATTACH;FMTTYPE=image/jpeg:https://kalkhorster-sv.de/wp/wp-content/uploads/2024/01/Einladung-Skatturnier.jpg
END:VEVENT
END:VCALENDAR