BEGIN:VCALENDAR
VERSION:2.0
PRODID:-//Kalkhorster Sportverein e. V. - ECPv6.15.20//NONSGML v1.0//EN
CALSCALE:GREGORIAN
METHOD:PUBLISH
X-WR-CALNAME:Kalkhorster Sportverein e. V.
X-ORIGINAL-URL:https://kalkhorster-sv.de
X-WR-CALDESC:Veranstaltungen für Kalkhorster Sportverein e. V.
REFRESH-INTERVAL;VALUE=DURATION:PT1H
X-Robots-Tag:noindex
X-PUBLISHED-TTL:PT1H
BEGIN:VTIMEZONE
TZID:Europe/Berlin
BEGIN:DAYLIGHT
TZOFFSETFROM:+0100
TZOFFSETTO:+0200
TZNAME:CEST
DTSTART:20210328T010000
END:DAYLIGHT
BEGIN:STANDARD
TZOFFSETFROM:+0200
TZOFFSETTO:+0100
TZNAME:CET
DTSTART:20211031T010000
END:STANDARD
BEGIN:DAYLIGHT
TZOFFSETFROM:+0100
TZOFFSETTO:+0200
TZNAME:CEST
DTSTART:20220327T010000
END:DAYLIGHT
BEGIN:STANDARD
TZOFFSETFROM:+0200
TZOFFSETTO:+0100
TZNAME:CET
DTSTART:20221030T010000
END:STANDARD
BEGIN:DAYLIGHT
TZOFFSETFROM:+0100
TZOFFSETTO:+0200
TZNAME:CEST
DTSTART:20230326T010000
END:DAYLIGHT
BEGIN:STANDARD
TZOFFSETFROM:+0200
TZOFFSETTO:+0100
TZNAME:CET
DTSTART:20231029T010000
END:STANDARD
END:VTIMEZONE
BEGIN:VEVENT
DTSTART;TZID=Europe/Berlin:20220923T190000
DTEND;TZID=Europe/Berlin:20220923T220000
DTSTAMP:20260423T062135
CREATED:20220502T181015Z
LAST-MODIFIED:20230102T082548Z
UID:901-1663959600-1663970400@kalkhorster-sv.de
SUMMARY:Jahreshauptversammlung 2022
DESCRIPTION:Liebe Mitglieder\,\n\nzu unserer diesjährigen Jahreshauptversammlung am Freitag\, den 23.09.2022\, möchten wir Euch hiermit herzlich einladen. Sie findet um 19.00 Uhr im Clubraum des Sportlerheimes\, Kalkhorst\, statt.\nWir haben folgende Tagesordnung:\n\n 	Begrüßung\n 	Feststellung der Stimmberechtigten\n 	Verlesen und Genehmigung der Niederschrift der letzten Jahreshauptversammlung\n 	Jahresbericht\n 	Tätigkeitsberichte der Abteilungen\n 	Bericht des Schatzmeisters\n 	Bericht des Kassenprüfers\n 	Entlastung des alten Vorstandes\n 	Neuwahl des Vorstandes\n 	Genehmigung des Haushaltsplanvoranschlages\n 	Anträge\n\n 	Erhöhung der Mitgliederbeiträge aufgrund der erhöhten Energiekosten\n\n\n 	Entlastung und Neuwahl des Kassenprüfers\n 	Verschiedenes\n\nAnträge\, die auf die Tagesordnung gesetzt werden sollen\, sind mindestens 4 Tage vorher beim Vorstand schriftlich einzureichen.\n\nWir hoffen und freuen uns auf Euer zahlreiches Erscheinen!\n\nMit sportlichem Gruß\nVorstand Kalkhorster SV\nWolfgang Rath (Schriftwart)
URL:https://kalkhorster-sv.de/veranstaltung/jahreshauptversammlung-2022/
LOCATION:Vereinsheim Kalkhorster SV\, Friedensstraße 61\, Kalkhorst\, Mecklenburg-Vorpommern\, 23942\, Deutschland
CATEGORIES:Jahreshauptversammlung
ATTACH;FMTTYPE=image/jpeg:https://kalkhorster-sv.de/wp/wp-content/uploads/2022/05/ksv-fb-titel2.jpg
END:VEVENT
END:VCALENDAR