BEGIN:VCALENDAR
VERSION:2.0
PRODID:-//Kalkhorster Sportverein e. V. - ECPv6.15.20//NONSGML v1.0//EN
CALSCALE:GREGORIAN
METHOD:PUBLISH
X-ORIGINAL-URL:https://kalkhorster-sv.de
X-WR-CALDESC:Veranstaltungen für Kalkhorster Sportverein e. V.
REFRESH-INTERVAL;VALUE=DURATION:PT1H
X-Robots-Tag:noindex
X-PUBLISHED-TTL:PT1H
BEGIN:VTIMEZONE
TZID:Europe/Berlin
BEGIN:DAYLIGHT
TZOFFSETFROM:+0100
TZOFFSETTO:+0200
TZNAME:CEST
DTSTART:20210328T010000
END:DAYLIGHT
BEGIN:STANDARD
TZOFFSETFROM:+0200
TZOFFSETTO:+0100
TZNAME:CET
DTSTART:20211031T010000
END:STANDARD
BEGIN:DAYLIGHT
TZOFFSETFROM:+0100
TZOFFSETTO:+0200
TZNAME:CEST
DTSTART:20220327T010000
END:DAYLIGHT
BEGIN:STANDARD
TZOFFSETFROM:+0200
TZOFFSETTO:+0100
TZNAME:CET
DTSTART:20221030T010000
END:STANDARD
BEGIN:DAYLIGHT
TZOFFSETFROM:+0100
TZOFFSETTO:+0200
TZNAME:CEST
DTSTART:20230326T010000
END:DAYLIGHT
BEGIN:STANDARD
TZOFFSETFROM:+0200
TZOFFSETTO:+0100
TZNAME:CET
DTSTART:20231029T010000
END:STANDARD
END:VTIMEZONE
BEGIN:VEVENT
DTSTART;TZID=Europe/Berlin:20221029T090000
DTEND;TZID=Europe/Berlin:20221029T120000
DTSTAMP:20260423T060957
CREATED:20220927T091010Z
LAST-MODIFIED:20220927T091013Z
UID:1027-1667034000-1667044800@kalkhorster-sv.de
SUMMARY:Arbeitseinsatz – wir bringen alles auf Vordermann
DESCRIPTION:Am Sonnabend\, dem 29.10.2022\, treffen wir uns zum Arbeitseinsatz. \n\n\n\nDauer: 9–12 Uhr. \n\n\n\nKommt zahlreich\, dann schaffen wir alles umso schneller.
URL:https://kalkhorster-sv.de/veranstaltung/arbeitseinsatz/
LOCATION:Vereinsheim Kalkhorster SV\, Friedensstraße 61\, Kalkhorst\, Mecklenburg-Vorpommern\, 23942\, Deutschland
CATEGORIES:Arbeitseinsatz
ATTACH;FMTTYPE=image/jpeg:https://kalkhorster-sv.de/wp/wp-content/uploads/2022/05/arbeitseinsatz.jpg
END:VEVENT
END:VCALENDAR